BEGIN:VCALENDAR
VERSION:2.0
PRODID:-//ChamberMaster//Event Calendar 2.0//EN
METHOD:PUBLISH
X-PUBLISHED-TTL:P3D
REFRESH-INTERVAL:P3D
CALSCALE:GREGORIAN
BEGIN:VEVENT
DTSTART:20150927T160000Z
DTEND:20150927T200000Z
X-MICROSOFT-CDO-ALLDAYEVENT:FALSE
SUMMARY:Concrete Cares of Nebraska Car Show & Shine
DESCRIPTION:Car show to benefit Breast Cancer awareness in cooperation with the Nebraska Concrete & Aggregates Association and the Highway Creepers Car Club
X-ALT-DESC;FMTTYPE=text/html:Car show to benefit Breast Cancer awareness in cooperation with the Nebraska Concrete &amp\; Aggregates Association and the Highway Creepers Car Club
LOCATION:The Archway 3060 East 1st St
UID:e.1404.6997
SEQUENCE:3
DTSTAMP:20260422T102123Z
URL:https://members.kearneycoc.org/events/details/concrete-cares-of-nebraska-car-show-shine-09-27-2015-6997
END:VEVENT

END:VCALENDAR
