BEGIN:VCALENDAR
VERSION:2.0
PRODID:-//ChamberMaster//Event Calendar 2.0//EN
METHOD:PUBLISH
X-PUBLISHED-TTL:P3D
REFRESH-INTERVAL:P3D
CALSCALE:GREGORIAN
BEGIN:VEVENT
DTSTART:20190312T160000Z
DTEND:20190312T170000Z
X-MICROSOFT-CDO-ALLDAYEVENT:FALSE
SUMMARY:Congressman Adrian Smith - Mobile Office
DESCRIPTION:Congressman Adrian Smith - Mobile Office\n\nA member of the Congressman's Office will talk about federal issues and what services are provided by his office.
X-ALT-DESC;FMTTYPE=text/html:Congressman Adrian Smith - Mobile Office<br />\nA member of the Congressman&#39\;s Office will talk about federal issues and what services are provided by his office.
LOCATION:Kearney Area Chamber of Commerce - Chamber Board Room
UID:e.1404.15418
SEQUENCE:3
DTSTAMP:20260426T033054Z
URL:https://members.kearneycoc.org/events/details/congressman-adrian-smith-mobile-office-15418
END:VEVENT

END:VCALENDAR
