BEGIN:VCALENDAR
VERSION:2.0
PRODID:-//ChamberMaster//Event Calendar 2.0//EN
METHOD:PUBLISH
X-PUBLISHED-TTL:P3D
REFRESH-INTERVAL:P3D
CALSCALE:GREGORIAN
BEGIN:VEVENT
DTSTART:20160322T200000Z
DTEND:20160323T000000Z
X-MICROSOFT-CDO-ALLDAYEVENT:FALSE
SUMMARY:Connecting Business Showcase
DESCRIPTION:Get to know our new members by visiting their booth at our Connecting Business Showcase.  This business to business networking event is new in 2016! Don't miss the opportunity to connect with local businesses and find out about what they have to offer.  In addition there will be food and beverages\, door prizes\, and other opportunities to get connected!
X-ALT-DESC;FMTTYPE=text/html:Get to know our new members by visiting their booth at our Connecting Business Showcase.&nbsp\;&nbsp\;This&nbsp\;business to business networking event is new in 2016! Don&rsquo\;t miss the opportunity to connect with local businesses and find out about what they have to offer. &nbsp\;In addition there will be food and beverages\, door prizes\, and other opportunities to get connected!&nbsp\;
LOCATION:Ramada Inn Paradise Ballroom
UID:e.1404.7513
SEQUENCE:3
DTSTAMP:20260421T234005Z
URL:https://members.kearneycoc.org/events/details/connecting-business-showcase-03-22-2016-7513
END:VEVENT

END:VCALENDAR
