BEGIN:VCALENDAR
VERSION:2.0
PRODID:-//ChamberMaster//Event Calendar 2.0//EN
METHOD:PUBLISH
X-PUBLISHED-TTL:P3D
REFRESH-INTERVAL:P3D
CALSCALE:GREGORIAN
BEGIN:VEVENT
DTSTART:20161028T130000Z
DTEND:20161028T210000Z
X-MICROSOFT-CDO-ALLDAYEVENT:FALSE
SUMMARY:Connecting Young Nebraskans Summit
DESCRIPTION:Connecting Young Nebraskans (CYN) is a statewide network designed to connect\, empower andretain young Nebraskans. CYN focuses on enhancing the opportunities for individuals ages 21 40 to impact their communities through networking and learning experiences. The CYN Network is a dynamic and diverse group of peers with a passion for making a difference\, a willingness to learn and the desire to build important relationships that will impact the future.
X-ALT-DESC;FMTTYPE=text/html:<span style="color: rgb(85\, 85\, 85)\; font-family: &quot\;Source Sans Pro&quot\;\, Arial\, Helvetica\, sans-serif\; line-height: 22.4px\; background-color: rgb(255\, 255\, 255)\;">Connecting Young Nebraskans (CYN)&nbsp\;is a statewide network designed to&nbsp\;</span><strong style="color: rgb(85\, 85\, 85)\; font-family: &quot\;Source Sans Pro&quot\;\, Arial\, Helvetica\, sans-serif\; line-height: 22.4px\; background-color: rgb(255\, 255\, 255)\;">connect</strong><span style="color: rgb(85\, 85\, 85)\; font-family: &quot\;Source Sans Pro&quot\;\, Arial\, Helvetica\, sans-serif\; line-height: 22.4px\; background-color: rgb(255\, 255\, 255)\;">\,&nbsp\;</span><strong style="color: rgb(85\, 85\, 85)\; font-family: &quot\;Source Sans Pro&quot\;\, Arial\, Helvetica\, sans-serif\; line-height: 22.4px\; background-color: rgb(255\, 255\, 255)\;">empower</strong><span style="color: rgb(85\, 85\, 85)\; font-family: &quot\;Source Sans Pro&quot\;\, Arial\, Helvetica\, sans-serif\; line-height: 22.4px\; background-color: rgb(255\, 255\, 255)\;">&nbsp\;</span><span style="color: rgb(85\, 85\, 85)\; font-family: &quot\;Source Sans Pro&quot\;\, Arial\, Helvetica\, sans-serif\; line-height: 22.4px\; background-color: rgb(255\, 255\, 255)\;">and</span><strong style="color: rgb(85\, 85\, 85)\; font-family: &quot\;Source Sans Pro&quot\;\, Arial\, Helvetica\, sans-serif\; line-height: 22.4px\; background-color: rgb(255\, 255\, 255)\;">retain</strong><span style="color: rgb(85\, 85\, 85)\; font-family: &quot\;Source Sans Pro&quot\;\, Arial\, Helvetica\, sans-serif\; line-height: 22.4px\; background-color: rgb(255\, 255\, 255)\;">&nbsp\;young Nebraskans. CYN focuses on enhancing the opportunities for individuals ages 21&ndash\;40 to impact their communities through networking and learning experiences. The CYN Network is a dynamic and diverse group of peers with a passion for making a difference\, a willingness to learn and the desire to build important relationships that will impact the future.</span>
LOCATION:Holthus Convention Center 3130 Holen Avenue York\, NE
UID:e.1404.8976
SEQUENCE:3
DTSTAMP:20260421T140253Z
URL:https://members.kearneycoc.org/events/details/connecting-young-nebraskans-summit-10-28-2016-8976
END:VEVENT

END:VCALENDAR
