BEGIN:VCALENDAR
VERSION:2.0
PRODID:-//ChamberMaster//Event Calendar 2.0//EN
METHOD:PUBLISH
X-PUBLISHED-TTL:P3D
REFRESH-INTERVAL:P3D
CALSCALE:GREGORIAN
BEGIN:VEVENT
DTSTART:20220708T220000Z
DTEND:20220709T000000Z
X-MICROSOFT-CDO-ALLDAYEVENT:FALSE
SUMMARY:CONNECTIONS: Museum of Nebraska Art Recent Acquisitions - Exhibition Reception
DESCRIPTION:The Museum of Nebraska Art's mission to collect the art of Nebraska is an ongoing effort to amplify the stories and visions of artists and make cultural connections. This exhibition of recent acquisitions serves as an introduction to new artists in MONA's Permanent Collection and to broaden the scope of work by artists already represented in the collection. Join us for an Exhibition Reception: Friday\, July 8 at 5 p.m. Remarks by guest artist Andrew Peters at 6 p.m. Walker Art Gallery
X-ALT-DESC;FMTTYPE=text/html:The Museum of Nebraska Art&rsquo\;s mission to collect the art of Nebraska is an ongoing effort to amplify the stories and visions of artists and make cultural connections. This exhibition of recent acquisitions serves as an introduction to new artists in MONA&rsquo\;s Permanent Collection and to broaden the scope of work by artists already represented in the collection. Join us for an Exhibition Reception: Friday\, July 8 at 5 p.m. Remarks by guest artist Andrew Peters at 6 p.m. Walker Art Gallery
LOCATION:Directions: Hwy 30 to 15th Ave. North to University Dr. | Take first right | Take next right to Lot 10 | Enter the double doors on the north side. The Walker Art Gallery is adjacent to the Art Department Office\, Room 301.
UID:e.1404.19960
SEQUENCE:3
DTSTAMP:20260421T120105Z
URL:https://members.kearneycoc.org/events/details/connections-museum-of-nebraska-art-recent-acquisitions-exhibition-reception-19960
END:VEVENT

END:VCALENDAR
