BEGIN:VCALENDAR
VERSION:2.0
PRODID:-//ChamberMaster//Event Calendar 2.0//EN
METHOD:PUBLISH
X-PUBLISHED-TTL:P3D
REFRESH-INTERVAL:P3D
CALSCALE:GREGORIAN
BEGIN:VEVENT
DTSTART:20201212T190000Z
DTEND:20201212T210000Z
X-MICROSOFT-CDO-ALLDAYEVENT:FALSE
SUMMARY:Cookie Walk on the Bricks
DESCRIPTION:What could be better than a box full of Christmas cookies? Come to Downtown Kearney for their 4th annual Cookie Walk on Saturday\, December 12th from 1 - 3 PM! Get your box and map and then walk around to participating businesses to collect assorted cookies   one cookie from each business for each box. There are a few ways to get your box and map this year: 1) Reserve a box and map online in advance starting on December 3rd at https://www.eventbrite.com/o/downtown-kearney-15360165744 and then pick it up at Ktown Cakery located at 2300 Central Avenue with proof of purchase starting on Monday\, December 7th\, 2) get them in person for cash starting on Monday\, December 7th at Ktown Cakery or 3) get one the day of the event at Ktown Cakery while quantities last. The cost is $10 and there are only 100 available. This event sells out. Get your box before they're gone! Please note that this is not an allergy friendly event. However\, due to COVID-19\, cookies will be individually wrapped. We also kindly request that you follow Two Rivers Public Health Department's recommendation to participate in groups of eight or less and be socially distant of at least six feet and the City of Kearney's mandate to wear a mask.
X-ALT-DESC;FMTTYPE=text/html:What could be better than a box full of Christmas cookies? Come to Downtown Kearney for their 4th annual Cookie Walk on Saturday\, December 12th from 1 - 3 PM! Get your box and map and then walk around to participating businesses to collect assorted cookies &ndash\; one cookie from each business for each box. There are a few ways to get your box and map this year: 1) Reserve a box and map online in advance starting on December 3rd at https://www.eventbrite.com/o/downtown-kearney-15360165744 and then pick it up at Ktown Cakery located at 2300 Central Avenue with proof of purchase starting on Monday\, December 7th\, 2) get them in person for cash starting on Monday\, December 7th at Ktown Cakery or 3) get one the day of the event at Ktown Cakery while quantities last. The cost is $10 and there are only 100 available. This event sells out. Get your box before they&#39\;re gone! Please note that this is not an allergy friendly event. However\, due to COVID-19\, cookies will be individually wrapped. We also kindly request that you follow Two Rivers Public Health Department&#39\;s recommendation to participate in groups of eight or less and be socially distant of at least six feet and the City of Kearney&#39\;s mandate to wear a mask.
LOCATION:Downtown Kearney
UID:e.1404.18776
SEQUENCE:3
DTSTAMP:20260424T174115Z
URL:https://members.kearneycoc.org/events/details/cookie-walk-on-the-bricks-12-12-2020-18776
END:VEVENT

END:VCALENDAR
