BEGIN:VCALENDAR
VERSION:2.0
PRODID:-//ChamberMaster//Event Calendar 2.0//EN
METHOD:PUBLISH
X-PUBLISHED-TTL:P3D
REFRESH-INTERVAL:P3D
CALSCALE:GREGORIAN
BEGIN:VEVENT
DTSTART:20190620T210000Z
DTEND:20190621T010000Z
X-MICROSOFT-CDO-ALLDAYEVENT:FALSE
SUMMARY:Cookies Under Construction! Free Family Fun Night
DESCRIPTION:Have you every built a house using cookies?!\n\nJoin us for a special night where you can learn construction basics using tasty cookies! These activities and play in museum exhibits is free and open to the public with the generous support of our sponsor Midlands Contracting.\n\nCookie Building Activity will be held from 5:00-7:00pm in our Party Room\n\nOther Construction themed activities will be held throughout the museum\n\nFree Admission will be offered from 4:00-8:00pm \n\n Gather the family and join us!
X-ALT-DESC;FMTTYPE=text/html:Have you every built a house using cookies?!<br />\nJoin us for a special night where you can learn construction basics using tasty cookies! These activities and play in museum exhibits is free and open to the public with the generous support of our sponsor&nbsp\;<a href="http://midlandscontracting.com"><strong>Midlands Contracting.</strong></a><br />\n<strong><span style="color:#FF0000">Cookie Building Activity will be held from 5:00-7:00pm in our Party Room<br />\nOther Construction themed activities will be held throughout the museum<br />\nFree Admission will be offered from 4:00-8:00pm&nbsp\;</span></strong><br />\n&nbsp\;Gather the family and join us!
LOCATION:Kearney Area Children's Museum The Alia Arram Memorial Building\, 5827 4th Ave\, Kearney\, NE 68845
UID:e.1404.16540
SEQUENCE:3
DTSTAMP:20260425T231310Z
URL:https://members.kearneycoc.org/events/details/cookies-under-construction-free-family-fun-night-16540
END:VEVENT

END:VCALENDAR
