BEGIN:VCALENDAR
VERSION:2.0
PRODID:-//ChamberMaster//Event Calendar 2.0//EN
METHOD:PUBLISH
X-PUBLISHED-TTL:P3D
REFRESH-INTERVAL:P3D
CALSCALE:GREGORIAN
BEGIN:VEVENT
DTSTART:20150709T230000Z
DTEND:20150710T020000Z
X-MICROSOFT-CDO-ALLDAYEVENT:FALSE
SUMMARY:Cork Meets Pork
DESCRIPTION:Join us Thursday\, July 9\, 2015 (6-9pm)  enjoy a succulent BBQ Pork Ribs picnic dinner paired with Mac's Creek international award winning wines. Proceeds for this dinner will go towards the Dawson County Relay For Life event.\n\n\n\nNo Reservations Required!   Groups larger than 8 please call ahead for seating (308) 324-0440\n\n\n\n$10.00 per person ~ No Reservations necessary\n\nTicket includes: BBQ Pork Rib picnic dinner (with all the fixin's) and one glass of Mac's Creek wine!
X-ALT-DESC;FMTTYPE=text/html:<span style="color: rgb(20\, 24\, 35)\; font-family: helvetica\, arial\, sans-serif\; font-size: 14px\; line-height: 18.7600002288818px\; background-color: rgb(255\, 255\, 255)\;">Join us Thursday\, July 9\, 2015 (6-9pm)&hellip\; enjoy a succulent BBQ Pork Ribs picnic dinner paired with Mac&rsquo\;s Creek international award winning wines. Proceeds for this dinner will go towards the Dawson County Relay For Life event.</span><br style="color: rgb(20\, 24\, 35)\; font-family: helvetica\, arial\, sans-serif\; font-size: 14px\; line-height: 18.7600002288818px\; background-color: rgb(255\, 255\, 255)\;" />\n<br style="color: rgb(20\, 24\, 35)\; font-family: helvetica\, arial\, sans-serif\; font-size: 14px\; line-height: 18.7600002288818px\; background-color: rgb(255\, 255\, 255)\;" />\n<span style="color: rgb(20\, 24\, 35)\; font-family: helvetica\, arial\, sans-serif\; font-size: 14px\; line-height: 18.7600002288818px\; background-color: rgb(255\, 255\, 255)\;">No Reservations Required! &ndash\; Groups larger than 8 please call ahead for seating (308) 324-0440</span><br style="color: rgb(20\, 24\, 35)\; font-family: helvetica\, arial\, sans-serif\; font-size: 14px\; line-height: 18.7600002288818px\; background-color: rgb(255\, 255\, 255)\;" />\n<br style="color: rgb(20\, 24\, 35)\; font-family: helvetica\, arial\, sans-serif\; font-size: 14px\; line-height: 18.7600002288818px\; background-color: rgb(255\, 255\, 255)\;" />\n<span style="color: rgb(20\, 24\, 35)\; font-family: helvetica\, arial\, sans-serif\; font-size: 14px\; line-height: 18.7600002288818px\; background-color: rgb(255\, 255\, 255)\;">$10.00 per person ~ No Reservations necessary</span><br style="color: rgb(20\, 24\, 35)\; font-family: helvetica\, arial\, sans-serif\; font-size: 14px\; line-height: 18.7600002288818px\; background-color: rgb(255\, 255\, 255)\;" />\n<span style="color: rgb(20\, 24\, 35)\; font-family: helvetica\, arial\, sans-serif\; font-size: 14px\; line-height: 18.7600002288818px\; background-color: rgb(255\, 255\, 255)\;">Ticket includes: BBQ Pork Rib picnic dinner (with all the fixin&rsquo\;s) and one glass of Mac&rsquo\;s Creek wine!</span>
LOCATION:Mac's Creek Vineyard & Winery 43315 R 757 Lexington\, NE
UID:e.1404.6468
SEQUENCE:3
DTSTAMP:20260422T132709Z
URL:https://members.kearneycoc.org/events/details/cork-meets-pork-07-09-2015-6468
END:VEVENT

END:VCALENDAR
