BEGIN:VCALENDAR
VERSION:2.0
PRODID:-//ChamberMaster//Event Calendar 2.0//EN
METHOD:PUBLISH
X-PUBLISHED-TTL:P3D
REFRESH-INTERVAL:P3D
CALSCALE:GREGORIAN
BEGIN:VEVENT
DTSTART:20191109T000000Z
DTEND:20191109T030000Z
X-MICROSOFT-CDO-ALLDAYEVENT:FALSE
SUMMARY:Couples Trivia and Kids Night Out
DESCRIPTION:Join us at The Rustic Patch from 6:15pm to 8:45pm. \n\nCost of event \n\n$40/couple includes hors d'oeuvres & trivia (BYOB)\n\n \n\nPackage Deal:\n\n$60/couple also includes 2 child admission to Kids Night Out at the Museum\n\n--After you put the $40 Trivia package in your shopping cart\, head to the Camps & Classes page and sign up your kiddos. In your final check-out purchase\, use the codes:\n\n-If you're a member\, use the code MEM. \n\n-If you are a nonmember\, use the code NONM.\n\nThe total should be $60 (if you purchase the 2 kids in KNO)!\n\n \n\n\nThank you to our Couples Trivia Night sponsors:\n\nEdward Jones - Financial Advisor: Shellie Seeba?\n\nWard Laboratories\, Inc.?\n\nThe Rustic Patch?
X-ALT-DESC;FMTTYPE=text/html:<div><span style="color:#000000">Join us at The Rustic Patch from&nbsp\;6:15pm to 8:45pm.&nbsp\;</span></div>\n\n<div><span style="color:#000000"><u>Cost of event</u>&nbsp\;</span></div>\n\n<div><span style="color:#000000">$40/couple includes hors d&#39\;oeuvres &amp\; trivia&nbsp\;<em><strong>(BYOB)</strong></em></span></div>\n\n<div><span style="color:#000000"><em><strong>&nbsp\;</strong></em></span></div>\n\n<div><span style="color:#000000"><u>Package Deal</u>:</span></div>\n\n<div><span style="color:#000000">$60/couple also includes 2 child admission to Kids Night Out at the Museum</span></div>\n\n<div><span style="color:#000000"><strong>--After you put the $40 Trivia package in your shopping cart\,&nbsp\;</strong><strong>head to the&nbsp\;<u><a href="https://sales.kearneychildrensmuseum.org/patroneducation.aspx?pid=30456" style="color: #000000\;">Camps &amp\; Classes</a></u>&nbsp\;page and sign up your kiddos. In your final check-out purchase\, use the codes:</strong></span></div>\n\n<div><span style="color:#000000"><strong>-If you&#39\;re a member\, use the code MEM.&nbsp\;</strong></span></div>\n\n<div><span style="color:#000000"><strong>-If you are a nonmember\, use the code NONM.</strong></span></div>\n\n<div><span style="color:#000000"><strong>The total should be $60 (if you purchase the 2 kids in KNO)!</strong></span></div>\n\n<div>&nbsp\;</div>\n\n<div>\n<p><span style="color:#000000">Thank you to our Couples Trivia Night sponsors:</span><br />\n<span style="color:#000000">Edward Jones - Financial Advisor: Shellie Seeba?</span><br />\n<span style="color:#000000">Ward Laboratories\, Inc.?</span><br />\n<span style="color:#000000">The Rustic Patch?</span></p>\n</div>\n
LOCATION:Couples Trivia- The Rustic Patch Kids Night Out- Kearney Area Children's Museum
UID:e.1404.17876
SEQUENCE:3
DTSTAMP:20260425T150240Z
URL:https://members.kearneycoc.org/events/details/couples-trivia-and-kids-night-out-17876
END:VEVENT

END:VCALENDAR
