BEGIN:VCALENDAR
VERSION:2.0
PRODID:-//ChamberMaster//Event Calendar 2.0//EN
METHOD:PUBLISH
X-PUBLISHED-TTL:P3D
REFRESH-INTERVAL:P3D
CALSCALE:GREGORIAN
BEGIN:VEVENT
DTSTART:20211113T001500Z
DTEND:20211113T024500Z
X-MICROSOFT-CDO-ALLDAYEVENT:FALSE
SUMMARY:Couples Trivia Night
DESCRIPTION:Join us at Clint Smith Graphics at 3210 Antelope Ave. Suite E from 6:15pm to 8:45pm. Trivia topic will be general. \n\n \n\nCost of event: \n\n$40/couple includes food & trivia (BYOB)\n\n \n\nPackage Deal: MUST purchase at least 2 children admissions to use Package Deal\n\n$60/couple also includes 2 child admission to Kids Night Out at the Museum\n\nSee event registration page for more details. \n\n \n\nA special thanks to our awesome supporters of this event:\n\nSandhills Oral & Facial Surgery\n\n\nWard Laboratories\n\nSusan Tonniges\, CPA\n\nClint Smith Graphics & Design
X-ALT-DESC;FMTTYPE=text/html:<div>Join us at Clint Smith Graphics at&nbsp\;<a href="https://www.google.com/maps/place/3210+Antelope+Ave+Suite+E\,+Kearney\,+NE+68847/@40.707131\,-99.0485003\,17z/data=!3m1!4b1!4m5!3m4!1s0x87994f182b9f81eb:0xb2f2ef154e38cff6!8m2!3d40.707131!4d-99.0463116" style="margin: 0px\; border: 0px\; font-family: futura-pt\; vertical-align: baseline\; text-decoration-line: none\; transform: translateZ(0px)\; outline: 0px\; color: rgb(0\, 0\, 0)\;">3210 Antelope Ave. Suite E</a>&nbsp\;from&nbsp\;6:15pm to 8:45pm. Trivia topic will be general.&nbsp\;</div>\n\n<div>&nbsp\;</div>\n\n<div><u>Cost of event:</u>&nbsp\;</div>\n\n<div>$40/couple includes food &amp\; trivia&nbsp\;<em><strong>(BYOB)</strong></em></div>\n\n<div>&nbsp\;</div>\n\n<div><u>Package Deal</u>:&nbsp\;<em><strong>MUST purchase at least 2 children admissions to use Package Deal</strong></em></div>\n\n<div>$60/couple also includes 2 child admission to Kids Night Out at the Museum</div>\n\n<div><span style="color:#0000CD"><em><strong>See event registration page for more details.&nbsp\;</strong></em></span></div>\n\n<div>&nbsp\;</div>\n\n<div><strong><u>A special thanks to our awesome supporters of this event:</u></strong></div>\n\n<div><span style="font-family:arial\; font-size:10pt">Sandhills Oral &amp\; Facial Surgery</span></div>\n\n<div>\n<div>Ward Laboratories</div>\n\n<div>Susan Tonniges\, CPA</div>\n\n<div><span style="font-size:10pt">Clint Smith Graphics &amp\; Design</span></div>\n</div>\n
LOCATION:3210 Antelope Ave. Suite E Kearney\, NE 68847
UID:e.1404.19436
SEQUENCE:3
DTSTAMP:20260423T214124Z
URL:https://members.kearneycoc.org/events/details/couples-trivia-night-11-12-2021-19436
END:VEVENT

END:VCALENDAR
