BEGIN:VCALENDAR
VERSION:2.0
PRODID:-//ChamberMaster//Event Calendar 2.0//EN
METHOD:PUBLISH
X-PUBLISHED-TTL:P3D
REFRESH-INTERVAL:P3D
CALSCALE:GREGORIAN
BEGIN:VEVENT
DTSTART:20150323T120000Z
DTEND:20150407T040000Z
X-MICROSOFT-CDO-ALLDAYEVENT:FALSE
SUMMARY:Crabgrass in Concert: Country and Bluegrass Music
DESCRIPTION:Get ready for a foot stomping\, hand clapping time as Crabgrass performs traditional bluegrass and country western music at the Kearney Public Library. This lively trio from Lincoln\, NE performs songs of the Carter family\, Woody Guthrie\, John Denver\, Patsy Cline and more! Each tune is rich in arrangement and this group has years of performing experience.
X-ALT-DESC;FMTTYPE=text/html:Get ready for a foot stomping\, hand clapping time as Crabgrass performs traditional bluegrass and country western music at the Kearney Public Library. This lively trio from Lincoln\, NE performs songs of the Carter family\, Woody Guthrie\, John Denver\, Patsy Cline and more! Each tune is rich in arrangement and this group has years of performing experience.
LOCATION:Kearney Public Library 2020 1st Avenue Kearney\, NE 68847
UID:e.1404.6157
SEQUENCE:3
DTSTAMP:20260422T183211Z
URL:https://members.kearneycoc.org/events/details/crabgrass-in-concert-country-and-bluegrass-music-03-23-2015-6157
END:VEVENT

END:VCALENDAR
