BEGIN:VCALENDAR
VERSION:2.0
PRODID:-//ChamberMaster//Event Calendar 2.0//EN
METHOD:PUBLISH
X-PUBLISHED-TTL:P3D
REFRESH-INTERVAL:P3D
CALSCALE:GREGORIAN
BEGIN:VEVENT
DTSTART;VALUE=DATE:20131207
DTEND;VALUE=DATE:20131208
TRANSP:TRANSPARENT
X-MICROSOFT-CDO-ALLDAYEVENT:TRUE
SUMMARY:Crane River Theater Company presents: Let it Snow!
DESCRIPTION:Let it Snow! \n\nA Christmas Celebration\n\nMusic\, Dance\, Film and Storytelling all wrapped up into a holiday event for the whole family.
X-ALT-DESC;FMTTYPE=text/html:Let it Snow!&nbsp\;<br />\nA Christmas Celebration<br />\nMusic\, Dance\, Film and Storytelling all wrapped up into a holiday event for the whole family.&nbsp\;
LOCATION:Merryman Performing Arts Center 225 West 22nd Street Kearney\, NE
UID:e.1404.3389
SEQUENCE:3
DTSTAMP:20260423T212937Z
URL:https://members.kearneycoc.org/events/details/crane-river-theater-company-presents-let-it-snow-12-07-2013-3389
END:VEVENT

END:VCALENDAR
