BEGIN:VCALENDAR
VERSION:2.0
PRODID:-//ChamberMaster//Event Calendar 2.0//EN
METHOD:PUBLISH
X-PUBLISHED-TTL:P3D
REFRESH-INTERVAL:P3D
CALSCALE:GREGORIAN
BEGIN:VEVENT
DTSTART:20160411T230000Z
DTEND:20160412T010000Z
X-MICROSOFT-CDO-ALLDAYEVENT:FALSE
SUMMARY:Crane River Theater Overture Dinner
DESCRIPTION:Join us in a celebratory dinner to benefit our upcoming 2016 season and to honor this years Crane River Theater Taking Flight Award recipients. The social will begin at 6pm with dinner and entertainment to follow at 6:30. If you would like to attend this annual event\, please visit CraneRiverTheater.org or call us at (308)627-5796. RSVP by Friday\, April 1.
X-ALT-DESC;FMTTYPE=text/html:Join us in a celebratory dinner to benefit our upcoming 2016 season and to honor this years Crane River Theater Taking Flight Award recipients. The social will begin at 6pm with dinner and entertainment to follow at 6:30. If you would like to attend this annual event\, please visit CraneRiverTheater.org or call us at (308)627-5796. RSVP by Friday\, April 1.
LOCATION:Younes Conference Center 416 W. Talmadge Road Kearney\, NE 68845
UID:e.1404.7514
SEQUENCE:3
DTSTAMP:20260421T234005Z
URL:https://members.kearneycoc.org/events/details/crane-river-theater-overture-dinner-04-11-2016-7514
END:VEVENT

END:VCALENDAR
