BEGIN:VCALENDAR
VERSION:2.0
PRODID:-//ChamberMaster//Event Calendar 2.0//EN
METHOD:PUBLISH
X-PUBLISHED-TTL:P3D
REFRESH-INTERVAL:P3D
CALSCALE:GREGORIAN
BEGIN:VEVENT
DTSTART:20150612T000000Z
DTEND:20150614T190000Z
X-MICROSOFT-CDO-ALLDAYEVENT:FALSE
SUMMARY:Crane River Theater Presents: Red
DESCRIPTION:Crane River Theater could not be more excited as we approach our sixth production season! Last year witnessed record-breaking audiences\, and we are confident those numbers only continue to grow this year. The season begins with the powerful drama Red\, which won the 2010 Tony Award for Best Play. A vivid picture of abstract expressionist painter\, Mark Rothko\, this play is a searing portrait of an artist?s ambition and vulnerability that will leave your heart pounding. Red will be performed at the Merryman Performing Arts Center with the audience seated on stage just a few feet away from the actors\, creating a perfect setting for this intimate production. Performances are June 11-13 at 7 p.m.\, and June 14 at 2 p.m. Ticket prices are $20 for adults and $18 for students. Call (308) 627-5796 or visit www.CraneRiverTheater.org to purchase tickets. We hope to see you at the shows this summer!
X-ALT-DESC;FMTTYPE=text/html:Crane River Theater could not be more excited as we approach our sixth production season! Last year witnessed record-breaking audiences\, and we are confident those numbers only continue to grow this year.&nbsp\;The season begins with the powerful drama Red\, which won the 2010 Tony Award for Best Play. A vivid picture of abstract expressionist painter\, Mark Rothko\, this play is a searing portrait of an artist?s ambition and vulnerability that will leave your heart pounding. Red will be performed at the Merryman Performing Arts Center with the audience seated on stage just a few feet away from the actors\, creating a perfect setting for this intimate production. Performances are June 11-13 at 7 p.m.\, and June 14 at 2 p.m. Ticket prices are $20 for adults and $18 for students. Call (308) 627-5796 or visit www.CraneRiverTheater.org to purchase tickets.&nbsp\;We hope to see you at the shows this summer!
LOCATION:Merryman Performing Arts Center 225 W 22nd St Kearney\, NE 68845
UID:e.1404.6208
SEQUENCE:3
DTSTAMP:20260422T165312Z
URL:https://members.kearneycoc.org/events/details/crane-river-theater-presents-red-06-11-2015-6208
END:VEVENT

END:VCALENDAR
