BEGIN:VCALENDAR
VERSION:2.0
PRODID:-//ChamberMaster//Event Calendar 2.0//EN
METHOD:PUBLISH
X-PUBLISHED-TTL:P3D
REFRESH-INTERVAL:P3D
CALSCALE:GREGORIAN
BEGIN:VEVENT
DTSTART:20150626T000000Z
DTEND:20150704T000000Z
X-MICROSOFT-CDO-ALLDAYEVENT:FALSE
SUMMARY:Crane River Theater presents: Tarzan the Musical
DESCRIPTION:The second show of the 2015 Crane River Theater is fun for the whole family! Tarzan the Musical\, based on the smash-hit Disney animated film\, tells the story of an infant boy orphaned in a shipwreck on the shores of West Africa. Hearts will be warmed as Tarzan navigates life with a tribe of gorillas\, a young botanist named Jane and all of the adventures that go along with life in the jungle. Tarzan will mark the sixth theatrical production to be staged at the Cope Amphitheater in Yanney Heritage Park. It is an outstanding venue to bring Kearney into the rich tradition of outdoor summer theater. Tarzan the Musical is free and open to the public\, and will show at 7 p.m. June 25 through July 3. We hope to see you at the shows this summer!
X-ALT-DESC;FMTTYPE=text/html:The second show of the 2015 Crane River Theater is fun for the whole family! Tarzan the Musical\, based on the smash-hit Disney animated film\, tells the story of an infant boy orphaned in a shipwreck on the shores of West Africa. Hearts will be warmed as Tarzan navigates life with a tribe of gorillas\, a young botanist named Jane and all of the adventures that go along with life in the jungle. Tarzan will mark the sixth theatrical production to be staged at the Cope Amphitheater in Yanney Heritage Park. It is an outstanding venue to bring Kearney into the rich tradition of outdoor summer theater. Tarzan the Musical is free and open to the public\, and will show at 7 p.m. June 25 through July 3. We hope to see you at the shows this summer!
LOCATION:Yanney Heritage Park Cope Amphitheater 2020 W 11th Street\, Kearney
UID:e.1404.6456
SEQUENCE:3
DTSTAMP:20260422T133202Z
URL:https://members.kearneycoc.org/events/details/crane-river-theater-presents-tarzan-the-musical-06-25-2015-6456
END:VEVENT

END:VCALENDAR
