BEGIN:VCALENDAR
VERSION:2.0
PRODID:-//ChamberMaster//Event Calendar 2.0//EN
METHOD:PUBLISH
X-PUBLISHED-TTL:P3D
REFRESH-INTERVAL:P3D
CALSCALE:GREGORIAN
BEGIN:VEVENT
DTSTART:20121104T000000Z
DTEND:20121104T000000Z
X-MICROSOFT-CDO-ALLDAYEVENT:FALSE
SUMMARY:Crane Watch Festival Pageant
DESCRIPTION:Crane Watch Festival Pageant
X-ALT-DESC;FMTTYPE=text/html:Crane Watch Festival Pageant &nbsp\; &nbsp\;
LOCATION:Merryman Performing Arts Center225 W 22nd St Kearney\, NE
UID:e.1404.2204
SEQUENCE:3
DTSTAMP:20260424T223816Z
URL:https://members.kearneycoc.org/events/details/crane-watch-festival-pageant-11-03-2012-2204
END:VEVENT

END:VCALENDAR
