BEGIN:VCALENDAR
VERSION:2.0
PRODID:-//ChamberMaster//Event Calendar 2.0//EN
METHOD:PUBLISH
X-PUBLISHED-TTL:P3D
REFRESH-INTERVAL:P3D
CALSCALE:GREGORIAN
BEGIN:VEVENT
DTSTART:20140325T020000Z
DTEND:20140325T020000Z
X-MICROSOFT-CDO-ALLDAYEVENT:FALSE
SUMMARY:Cranes on Display
DESCRIPTION:LEGO my Crane Competition\n\n	Cranes on display:  March 15th-25th\n\n	Award Ceremony:  March 25th at 5:30-6:30pm\; Kearney Public Library\n\n	Please contact Leslie Means at (308) 237-4671 for more details\n\n	Click here to download the 2014 Lego My Crane Entry Form\n\n	Click here to download the 2014 Lego My Crane Rules\n\n	 \n\n\n\n\nCrane Competition for all ages.  All proceeds\n\nwill go to the Kearney Area  Chamber of \n\nCommerce Education and Leadership\n\nScholarship.\n\nwww.kearneylib.org
X-ALT-DESC;FMTTYPE=text/html:<p style="font-family: Verdana\; color: rgb(0\, 0\, 0)\; margin-top: 0px\;">\n	LEGO my Crane Competition</p>\n<p style="font-family: Verdana\; color: rgb(0\, 0\, 0)\; margin-top: 0px\;">\n	Cranes on display:&nbsp\; March 15th-25th</p>\n<p style="font-family: Verdana\; color: rgb(0\, 0\, 0)\; margin-top: 0px\;">\n	Award Ceremony:&nbsp\; March 25<sup>th</sup>&nbsp\;at 5:30-6:30pm\; Kearney Public Library</p>\n<p style="font-family: Verdana\; color: rgb(0\, 0\, 0)\; margin-top: 0px\;">\n	Please contact Leslie Means at (308) 237-4671 for more details</p>\n<p style="font-family: Verdana\; font-size: 11px\; color: rgb(0\, 0\, 0)\; margin-top: 0px\;">\n	<span style="font-size: small\;">Click&nbsp\;</span><a href="http://cranewatchfestival.com/Portals/0/LEGO%20Crane%20Entry%20Form%202014.doc" style="text-decoration: none\; color: rgb(152\, 1\, 46)\; font-size: small\;" target="_blank">here</a><span style="font-size: small\;">&nbsp\;to download the 2014 Lego My Crane Entry Form</span></p>\n<p style="font-family: Verdana\; color: rgb(0\, 0\, 0)\; margin-top: 0px\;">\n	<span style="font-size: 13px\;">Click&nbsp\;<a href="http://cranewatchfestival.com/Portals/0/Lego%20My%20Crane%20Rules%202014.docx" style="text-decoration: none\; color: rgb(152\, 1\, 46)\;" target="_blank">here</a>&nbsp\;to download the 2014 Lego My Crane Rules</span></p>\n<p style="font-family: Verdana\; font-size: 11px\; color: rgb(0\, 0\, 0)\; margin-top: 0px\;">\n	&nbsp\;</p>\n<br style="color: rgb(0\, 0\, 0)\; font-family: Verdana\; font-size: 11px\;" />\n<br style="color: rgb(0\, 0\, 0)\; font-family: Verdana\; font-size: 11px\;" />\n<span style="color: rgb(0\, 0\, 0)\; font-family: Verdana\; font-size: 13px\;">Crane Competition for all ages.&nbsp\; All proceeds<br />\nwill go to the Kearney Area&nbsp\; Chamber of&nbsp\;<br />\nCommerce Education and Leadership<br />\nScholarship.<br />\n<a href="http://cranewatchfestival.com/LinkClick.aspx?link=http%3a%2f%2fwww.kearneylib.org%2f&amp\;tabid=83&amp\;portalid=0&amp\;mid=453" style="text-decoration: none\; color: rgb(152\, 1\, 46)\;">www.kearneylib.org</a></span>
LOCATION:
UID:e.1404.4499
SEQUENCE:3
DTSTAMP:20260423T163441Z
URL:https://members.kearneycoc.org/events/details/cranes-on-display-03-24-2014-4499
END:VEVENT

END:VCALENDAR
