BEGIN:VCALENDAR
VERSION:2.0
PRODID:-//ChamberMaster//Event Calendar 2.0//EN
METHOD:PUBLISH
X-PUBLISHED-TTL:P3D
REFRESH-INTERVAL:P3D
CALSCALE:GREGORIAN
BEGIN:VEVENT
DTSTART:20160312T233000Z
DTEND:20160313T030000Z
X-MICROSOFT-CDO-ALLDAYEVENT:FALSE
SUMMARY:Cranes on Parade Art Auction
DESCRIPTION:Cranes on Parade 3 Public Art Fund Raiser is almost here. This is the 3rd art auction with the first in 2003\, 2nd in 2010. You won't want to miss this Amazing Community Art Project featuring Nebraska Artist. Original 6 foot Cranes sculpture and the Study size Crane both by Marth Pettigrew...nationally and internationally known artist. 14 beautiful 6 ft scultpures\, 12 small study size cranes and a variety of other amazing crane art will be sold to the highest bidders. Visit cranesonparade.com for more information.
X-ALT-DESC;FMTTYPE=text/html:Cranes on Parade 3 Public Art Fund Raiser is almost here. This is the 3rd art auction with the first in 2003\, 2nd in 2010. You won&#39\;t want to miss this Amazing Community Art Project featuring Nebraska Artist. Original 6 foot Cranes sculpture and the Study size Crane both by Marth Pettigrew...nationally and internationally known artist. 14 beautiful 6 ft scultpures\, 12 small study size cranes and a variety of other amazing crane art will be sold to the highest bidders. Visit cranesonparade.com for more information.
LOCATION:Museum of Nebraska Art - MONA 2401 Central Ave
UID:e.1404.7506
SEQUENCE:3
DTSTAMP:20260422T012220Z
URL:https://members.kearneycoc.org/events/details/cranes-on-parade-art-auction-03-12-2016-7506
END:VEVENT

END:VCALENDAR
