BEGIN:VCALENDAR
VERSION:2.0
PRODID:-//ChamberMaster//Event Calendar 2.0//EN
METHOD:PUBLISH
X-PUBLISHED-TTL:P3D
REFRESH-INTERVAL:P3D
CALSCALE:GREGORIAN
BEGIN:VEVENT
DTSTART:20160229T233000Z
DTEND:20160301T013000Z
X-MICROSOFT-CDO-ALLDAYEVENT:FALSE
SUMMARY:Cranes on Parade Art Preview Party
DESCRIPTION:Cranes on Parade III is having a community PARTY at the World Theatre - no Charge - come and preview the Crane art that will be auctioned off at the Cranes on Parade III Art Auction March 12 at MONA. Refreshment and entertainment will be available\, door prizes and raffles. JOIN US for the FUN!
X-ALT-DESC;FMTTYPE=text/html:Cranes on Parade III is having a community PARTY at the World Theatre - no Charge - come and preview the Crane art that will be auctioned off at the Cranes on Parade III Art Auction March 12 at MONA. Refreshment and entertainment will be available\, door prizes and raffles. JOIN US for the FUN!
LOCATION:WORLD THEATRE 2318 Central Ave
UID:e.1404.7476
SEQUENCE:3
DTSTAMP:20260422T012305Z
URL:https://members.kearneycoc.org/events/details/cranes-on-parade-art-preview-party-02-29-2016-7476
END:VEVENT

END:VCALENDAR
