BEGIN:VCALENDAR
VERSION:2.0
PRODID:-//ChamberMaster//Event Calendar 2.0//EN
METHOD:PUBLISH
X-PUBLISHED-TTL:P3D
REFRESH-INTERVAL:P3D
CALSCALE:GREGORIAN
BEGIN:VEVENT
DTSTART:20150418T000000Z
DTEND:20150418T020000Z
X-MICROSOFT-CDO-ALLDAYEVENT:FALSE
SUMMARY:Cranes on Parade III Kick-off
DESCRIPTION:Kick off of the event at MONA\, 2401 Central Ave\, Kearney\, Nebraska. A fun nightwith the artists\, Coach Lamberson\, & community and Rotary members. Wine and cheese and other refreshments served. Contact any member of the Kearney Dawn Rotary for tickets.
X-ALT-DESC;FMTTYPE=text/html:Kick off of the event at MONA\, 2401 Central Ave\, Kearney\, Nebraska. A fun nightwith the artists\, Coach Lamberson\, &amp\; community and Rotary members. Wine and cheese and other refreshments served. Contact any member of the Kearney Dawn Rotary for tickets.
LOCATION:MONA\, 2401 Central Ave\, Kearney\, Nebraska
UID:e.1404.6195
SEQUENCE:3
DTSTAMP:20260422T182349Z
URL:https://members.kearneycoc.org/events/details/cranes-on-parade-iii-kick-off-04-17-2015-6195
END:VEVENT

END:VCALENDAR
