BEGIN:VCALENDAR
VERSION:2.0
PRODID:-//ChamberMaster//Event Calendar 2.0//EN
METHOD:PUBLISH
X-PUBLISHED-TTL:P3D
REFRESH-INTERVAL:P3D
CALSCALE:GREGORIAN
BEGIN:VEVENT
DTSTART:20210625T130000Z
DTEND:20210625T200000Z
X-MICROSOFT-CDO-ALLDAYEVENT:FALSE
SUMMARY:Cranium Kids! Camp
DESCRIPTION:Youth Summer Camp for Ages 4-10
X-ALT-DESC;FMTTYPE=text/html:Youth Summer Camp for Ages 4-10
LOCATION:Kearney Area Children's Museum
UID:e.1404.19276
SEQUENCE:3
DTSTAMP:20260424T060715Z
URL:https://members.kearneycoc.org/events/details/cranium-kids-camp-06-25-2021-19276
END:VEVENT

END:VCALENDAR
