BEGIN:VCALENDAR
VERSION:2.0
PRODID:-//ChamberMaster//Event Calendar 2.0//EN
METHOD:PUBLISH
X-PUBLISHED-TTL:P3D
REFRESH-INTERVAL:P3D
CALSCALE:GREGORIAN
BEGIN:VEVENT
DTSTART:20190809T130000Z
DTEND:20190810T020000Z
X-MICROSOFT-CDO-ALLDAYEVENT:FALSE
SUMMARY:Criss-Cross Applesauce Camp
DESCRIPTION:The summer is almost over but we will go out with a bang! Children will enjoy a day full of sunshine\, friends\, tasty treats and amazing games. It's a camp you don't want to miss!\n\n\n\nAges 4-10\n\n\n\nActivities will include:\n\n1. Outdoor games \n\n2. Water balloon fun\n\n3. Various activity stations celebrating our summer\n\n\n\nSpecial Notes:\n\nLunch will be provided of pizza\, fruit\, and carrot sticks with dip.\n\nPopsicles will also be serve in the afternoon at snack time. \n\nIf your child has food allergies they are welcome to bring a sack lunch if needed.
X-ALT-DESC;FMTTYPE=text/html:The summer is almost over but we will go out with a bang! Children will enjoy a day full of sunshine\, friends\, tasty treats and amazing games. It&#39\;s a camp you don&#39\;t want to miss!<br />\n<br />\nAges 4-10<br />\n<br />\nActivities will include:<br />\n1. Outdoor games&nbsp\;<br />\n2. Water balloon fun<br />\n3. Various activity stations celebrating our summer<br />\n<br />\nSpecial Notes:<br />\nLunch will be provided of pizza\, fruit\, and carrot sticks with dip.<br />\nPopsicles will also be serve in the afternoon at snack time.&nbsp\;<br />\nIf your child has food allergies they are welcome to bring a sack lunch if needed.
LOCATION:Kearney Area Children's Museum Alia Arram Memorial Building 5827 4th Avenue\, Kearney\, NE 68845
UID:e.1404.16565
SEQUENCE:3
DTSTAMP:20260425T213124Z
URL:https://members.kearneycoc.org/events/details/criss-cross-applesauce-camp-16565
END:VEVENT

END:VCALENDAR
