BEGIN:VCALENDAR
VERSION:2.0
PRODID:-//ChamberMaster//Event Calendar 2.0//EN
METHOD:PUBLISH
X-PUBLISHED-TTL:P3D
REFRESH-INTERVAL:P3D
CALSCALE:GREGORIAN
BEGIN:VEVENT
DTSTART:20140408T230000Z
DTEND:20140409T003000Z
X-MICROSOFT-CDO-ALLDAYEVENT:FALSE
SUMMARY:Crossroads Center 3rd Annual Celebration Banquet
DESCRIPTION:Crossroads Center is hosting our 3rd Annual Celebration Banquet on Tuesday\, April 8\, 2014 at 6 p.m. at the Younes Conference Center. Pastor Walter August\, Jr. from Houston\, TX is our guest speaker. Ticket prices are $35 or a table of ten for $350. To learn more about Pastor Walter August\, Jr. or to register visit www.crossroadsmission.com
X-ALT-DESC;FMTTYPE=text/html:Crossroads Center is hosting our 3rd Annual Celebration Banquet on Tuesday\, April 8\, 2014 at 6 p.m. at the Younes Conference Center. Pastor Walter August\, Jr. from Houston\, TX is our guest speaker. Ticket prices are $35 or a table of ten for $350. To learn more about Pastor Walter August\, Jr. or to register visit www.crossroadsmission.com
LOCATION:406 Talmadge Road Kearney\, NE
UID:e.1404.4674
SEQUENCE:3
DTSTAMP:20260423T150004Z
URL:https://members.kearneycoc.org/events/details/crossroads-center-3rd-annual-celebration-banquet-04-08-2014-4674
END:VEVENT

END:VCALENDAR
