BEGIN:VCALENDAR
VERSION:2.0
PRODID:-//ChamberMaster//Event Calendar 2.0//EN
METHOD:PUBLISH
X-PUBLISHED-TTL:P3D
REFRESH-INTERVAL:P3D
CALSCALE:GREGORIAN
BEGIN:VEVENT
DTSTART:20150115T180000Z
DTEND:20150115T190000Z
X-MICROSOFT-CDO-ALLDAYEVENT:FALSE
SUMMARY:Customer Engagement - Are you ready to propose?
DESCRIPTION:Customer Engagement - Are you ready to propose? \n\n\n\nIn this interactive seminar\, participants will learn how to forge customer commitment through fostering relationships. By identifying purposeful ways of meeting the needs and wants of customers\, business stakeholders will build a confident approach to client loyalty. We will examine the consumer-psyche and discuss the elements of buying decisions. This seminar will shift your perspective on customer service!\n\n\n\nStay after the seminar for the Open for Business Ribbon Cutting!
X-ALT-DESC;FMTTYPE=text/html:<strong>Customer Engagement - Are you ready to propose?</strong>&nbsp\;<br />\n<br />\nIn this interactive seminar\, participants will learn how to forge customer commitment through fostering relationships. By identifying purposeful ways of meeting the needs and wants of customers\, business stakeholders will build a confident approach to client loyalty. We will examine the consumer-psyche and discuss the elements of buying decisions. This seminar will shift your perspective on customer service!<br />\n<br />\nStay after the seminar for the Open for Business Ribbon Cutting!
LOCATION:Kearney Area Chamber of Commerce Board Room 1007 2nd Ave Kearney NE 68848
UID:e.1404.5681
SEQUENCE:3
DTSTAMP:20260422T225745Z
URL:https://members.kearneycoc.org/events/details/customer-engagement-are-you-ready-to-propose-01-15-2015-5681
END:VEVENT

END:VCALENDAR
