BEGIN:VCALENDAR
VERSION:2.0
PRODID:-//ChamberMaster//Event Calendar 2.0//EN
METHOD:PUBLISH
X-PUBLISHED-TTL:P3D
REFRESH-INTERVAL:P3D
CALSCALE:GREGORIAN
BEGIN:VEVENT
DTSTART:20140606T180000Z
DTEND:20140606T213000Z
X-MICROSOFT-CDO-ALLDAYEVENT:FALSE
SUMMARY:D-Day-70 years Later
DESCRIPTION:This special discussion from two experienced military men is designed to provide an understanding of both civilian and military contributions specifically relating to the European Theater just prior to the D-Day Invasion through V-E Day. These two Veterans will help us to understand the historical value of this day. SGM Guenther will show roughly 60-100 photographs taken by combat photographers of the US Army Signal Corps during WWII.\n\n\n\nPresenters: SGM Ted Guenther and Lt Col Meyer
X-ALT-DESC;FMTTYPE=text/html:This special discussion from two experienced military men is designed to provide an understanding of both civilian and military contributions specifically relating to the European Theater just prior to the D-Day Invasion through V-E Day. These two Veterans will help us to understand the historical value of this day. SGM&nbsp\;Guenther will show roughly 60-100 photographs taken by combat photographers of the US Army Signal Corps during WWII.<br />\n<br />\nPresenters: SGM Ted Guenther and Lt Col Meyer
LOCATION:Ockinga Auditorium-University of Nebraska at Kearney
UID:e.1404.4855
SEQUENCE:3
DTSTAMP:20260423T113620Z
URL:https://members.kearneycoc.org/events/details/d-day-70-years-later-06-06-2014-4855
END:VEVENT

END:VCALENDAR
