BEGIN:VCALENDAR
VERSION:2.0
PRODID:-//ChamberMaster//Event Calendar 2.0//EN
METHOD:PUBLISH
X-PUBLISHED-TTL:P3D
REFRESH-INTERVAL:P3D
CALSCALE:GREGORIAN
BEGIN:VEVENT
DTSTART:20150317T120000Z
DTEND:20150318T023000Z
X-MICROSOFT-CDO-ALLDAYEVENT:FALSE
SUMMARY:Dana & Susan Robinson in Concert at Kearney Public Library on St. Patrick's Day!
DESCRIPTION:From performing at Carnegie Hall to being featured in Ken Burn?s PBS documentaries\, such as ?The National Parks\,? and ?The Dust Bowl\,? Dana and Susan have been playing their trademark brand of ?new-time\, old-time music? for nearly twenty years. Accompanying themselves on the fiddle\, guitar\, banjo and mandolin they bring fresh harmonies and impeccable craftsmanship to their performances that draw the listener close to the heart of Appalachia and beyond. Dana?s original songs reflect the essence of rural America and their concerts are virtual road-trips across North America.
X-ALT-DESC;FMTTYPE=text/html:From performing at Carnegie Hall to being featured in Ken Burn?s PBS documentaries\, such as ?The National Parks\,? and ?The Dust Bowl\,? Dana and Susan have been playing their trademark brand of ?new-time\, old-time music? for nearly twenty years. Accompanying themselves on the fiddle\, guitar\, banjo and mandolin they bring fresh harmonies and impeccable craftsmanship to their performances that draw the listener close to the heart of Appalachia and beyond. Dana?s original songs reflect the essence of rural America and their concerts are virtual road-trips across North America.
LOCATION:Kearney Public Library 2020 1st Avenue Kearney\, NE
UID:e.1404.6156
SEQUENCE:3
DTSTAMP:20260422T200516Z
URL:https://members.kearneycoc.org/events/details/dana-susan-robinson-in-concert-at-kearney-public-library-on-st-patrick-s-day-03-17-2015-6156
END:VEVENT

END:VCALENDAR
