BEGIN:VCALENDAR
VERSION:2.0
PRODID:-//ChamberMaster//Event Calendar 2.0//EN
METHOD:PUBLISH
X-PUBLISHED-TTL:P3D
REFRESH-INTERVAL:P3D
CALSCALE:GREGORIAN
BEGIN:VEVENT
DTSTART:20190413T000500Z
DTEND:20190413T020000Z
X-MICROSOFT-CDO-ALLDAYEVENT:FALSE
SUMMARY:Dash 4 Cash: Tri-City Storm vs. Des Moines Buccaneers
DESCRIPTION:Dash 4 Cash: Tri-City Storm vs. Des Moines Buccaneers\n\nIncludes $5 Kids Friday\, Post Game Skate
X-ALT-DESC;FMTTYPE=text/html:Dash 4 Cash: Tri-City Storm vs. Des Moines Buccaneers<br />\n<span style="background:white\;"><span style="color:#333333\;"><span style="font-family:arial\,sans-serif\;"><span style="font-size:10.0pt\;">Includes $5 Kids Friday\, Post Game Skate</span></span></span></span>
LOCATION:Viaero Event Center
UID:e.1404.13984
SEQUENCE:3
DTSTAMP:20260426T020736Z
URL:https://members.kearneycoc.org/events/details/dash-4-cash-tri-city-storm-vs-des-moines-buccaneers-13984
END:VEVENT

END:VCALENDAR
