BEGIN:VCALENDAR
VERSION:2.0
PRODID:-//ChamberMaster//Event Calendar 2.0//EN
METHOD:PUBLISH
X-PUBLISHED-TTL:P3D
REFRESH-INTERVAL:P3D
CALSCALE:GREGORIAN
BEGIN:VEVENT
DTSTART:20150725T130000Z
DTEND:20150725T220000Z
X-MICROSOFT-CDO-ALLDAYEVENT:FALSE
SUMMARY:Dave Griek's 2nd Annual LOSS Scramble
DESCRIPTION:A charitable volleyball tournament for the sustainability of the Central Nebraska LOSS (Local Outreach to Suicide Survivors).  Our goal is to console survivors following completed suicide.  Our mission is to enhance the mental health of the community and improve the lives of those impacted by mental illness.\n\n\n\n\n\nStyle:\n\n4-on-4 \n\nDouble Elimination\n\nTeams: 4-8 players (men\, women\, coed)\n\n1st Place and 2nd Place Trophy\n\nDeadline to register: July 15th
X-ALT-DESC;FMTTYPE=text/html:<span style="font-size:14px\;"><span style="font-family:arial\;">A charitable volleyball tournament for the sustainability of the Central Nebraska LOSS (Local Outreach to Suicide Survivors). &nbsp\;Our goal is to console survivors following completed suicide. </span></span><span style="font-size:16px\;"><span style="font-family:arial\;">&nbsp\;<span style="font-size:14px\;">Our mission is to enhance the mental health of the community&nbsp\;and improve the lives of those impacted by mental illness.</span></span></span><br />\n<br />\n<br />\nStyle:<br />\n4-on-4&nbsp\;<br />\nDouble Elimination<br />\nTeams: 4-8 players (men\, women\, coed)<br />\n1st Place and 2nd Place Trophy<br />\nDeadline to register: July 15th
LOCATION:Big Apple Fun Center 500 W. 4th St.
UID:e.1404.6451
SEQUENCE:3
DTSTAMP:20260422T152524Z
URL:https://members.kearneycoc.org/events/details/dave-griek-s-2nd-annual-loss-scramble-07-25-2015-6451
END:VEVENT

END:VCALENDAR
