BEGIN:VCALENDAR
VERSION:2.0
PRODID:-//ChamberMaster//Event Calendar 2.0//EN
METHOD:PUBLISH
X-PUBLISHED-TTL:P3D
REFRESH-INTERVAL:P3D
CALSCALE:GREGORIAN
BEGIN:VEVENT
DTSTART:20190301T190000Z
DTEND:20190302T000000Z
X-MICROSOFT-CDO-ALLDAYEVENT:FALSE
SUMMARY:Day at the Races Business After Hours sponsored by Associated Staffing
DESCRIPTION:Come join us for this annual event!
X-ALT-DESC;FMTTYPE=text/html:Come join us for this annual event!&nbsp\;
LOCATION:Fonner Park 700 E Stolley Park Rd. Grand Island
UID:e.1404.14220
SEQUENCE:3
DTSTAMP:20260426T033530Z
URL:https://members.kearneycoc.org/events/details/day-at-the-races-business-after-hours-sponsored-by-associated-staffing-14220
END:VEVENT

END:VCALENDAR
