BEGIN:VCALENDAR
VERSION:2.0
PRODID:-//ChamberMaster//Event Calendar 2.0//EN
METHOD:PUBLISH
X-PUBLISHED-TTL:P3D
REFRESH-INTERVAL:P3D
CALSCALE:GREGORIAN
BEGIN:VEVENT
DTSTART:20140410T233000Z
DTEND:20140411T013000Z
X-MICROSOFT-CDO-ALLDAYEVENT:FALSE
SUMMARY:DEMYSTIFYING BIG DATA FOR BETTER BUSINESS
DESCRIPTION:Free public lecture by Dr. Peter Aiken\, widely acclaimed as one of the top ten data management authorities worldwide. As a practicing data consultant\, author and researcher\, he has been actively performing in and studying data management for more than 30 years. He is a highly sought-after keynote speaker and author of multiple publications.
X-ALT-DESC;FMTTYPE=text/html:Free public lecture by Dr. Peter Aiken\, widely acclaimed as one of the top ten data management authorities worldwide. As a practicing data consultant\, author and researcher\, he has been actively performing in and studying data management for more than 30 years. He is a highly sought-after keynote speaker and author of multiple publications.
LOCATION:UNK Campus\, Copeland Hall\, Room 142
UID:e.1404.4679
SEQUENCE:3
DTSTAMP:20260423T162942Z
URL:https://members.kearneycoc.org/events/details/demystifying-big-data-for-better-business-04-10-2014-4679
END:VEVENT

END:VCALENDAR
