BEGIN:VCALENDAR
VERSION:2.0
PRODID:-//ChamberMaster//Event Calendar 2.0//EN
METHOD:PUBLISH
X-PUBLISHED-TTL:P3D
REFRESH-INTERVAL:P3D
CALSCALE:GREGORIAN
BEGIN:VEVENT
DTSTART:20151102T133000Z
DTEND:20151102T220000Z
X-MICROSOFT-CDO-ALLDAYEVENT:FALSE
SUMMARY:Department of Homeland Security Active Shooter Preparedness Workshop
DESCRIPTION:Given today's ever-changing threat environment\, preparing for and training employees to cope with workplace violence should be a key piece of an organization's incident response planning.\n\n\n\nA Unique Training Opportunity\n\nUniversity of Nebraska at Kearney\, Office of Emergency Management and the National Protection and Programs Directorate Office of Infrastructure Protection within the U.S. Department of Homeland Security are hosting a one-day Security Workshop to enhance awareness of\, and response to\, an active shooter event: \n\n	Educating participants on the history of active shooter events\;\n	Describing common behavior\, conditions\, and situations associated with active shooters\; and\n	Fostering communication between critical infrastructure owners and operators and local emergency response teams. This course includes discussions of interoperability\, communications protocols\, and best practices for planning\, preparedness\, and response.\n\nBuilding Emergency Planning Capabilities \n\nThe event will also describe how to incorporate key elements of successful incident management into planning efforts including: \n\n	Communicating with and accounting for employees\;\n	Building familiarity with local responders and knowing their capabilities\;\n	Coordinating with first responders before\, during\, and after an incident\; and   Integrating public affairs into incident management.  \n\nRegistration \n\nRegistration for this event is free. Click here to register or cut and paste this link into your browser: https://www.govevents.com/details/17912/dhs-active-shooter-preparedness-workshop-kearney-nebraska68849/?nlp=79q34256s3854dlu123a  \n\n\n	Registration closes November 2\, 2015 at 11:59 pm\, (EDT)\n	Limited seating is available\n	Note: If your plans change\, please notify us so we can accommodate others on the waiting list \n\nWho Should Participate? \n\nThis event is open to: \n\n	Corporate and facility security professionals from the private and public sectors\;\n	Supervisory first responders\; and\n	Homeland security representatives.
X-ALT-DESC;FMTTYPE=text/html:Given today&#39\;s ever-changing threat environment\, preparing for and training employees to cope with workplace violence should be a key piece of an organization&#39\;s incident response planning.<br />\n<br />\n<u><strong>A Unique Training Opportunity</strong></u><br />\nUniversity of Nebraska at Kearney\, Office of Emergency Management and the National Protection and Programs Directorate Office of Infrastructure Protection within the U.S. Department of Homeland Security are hosting a one-day Security Workshop to enhance awareness of\, and response to\, an active shooter event:&nbsp\;\n<ul>\n	<li>Educating participants on the history of active shooter events\;</li>\n	<li>Describing common behavior\, conditions\, and situations associated with active shooters\; and</li>\n	<li>Fostering communication between critical infrastructure owners and operators and local emergency response teams. This course includes discussions of interoperability\, communications protocols\, and best practices for planning\, preparedness\, and response.</li>\n</ul>\n<u><strong>Building Emergency Planning Capabilities&nbsp\;</strong></u><br />\nThe event will also describe how to incorporate key elements of successful incident management into planning efforts including:&nbsp\;\n<ul>\n	<li>Communicating with and accounting for employees\;</li>\n	<li>Building familiarity with local responders and knowing their capabilities\;</li>\n	<li>Coordinating with first responders before\, during\, and after an incident\; and &bull\; Integrating public affairs into incident management. &nbsp\;</li>\n</ul>\n<u><strong>Registration&nbsp\;</strong></u><br />\nRegistration for this event is free. <a href="https://www.govevents.com/details/17912/dhs-active-shooter-preparedness-workshop-kearney-nebraska-68849/">Click here to register</a>&nbsp\;or cut and paste this link into your browser: <a href="https://www.govevents.com/details/17912/dhs-active-shooter-preparedness-workshop-kearney-nebraska68849/?nlp=79q34256s3854dlu123a">https://www.govevents.com/details/17912/dhs-active-shooter-preparedness-workshop-kearney-nebraska68849/?nlp=79q34256s3854dlu123a &nbsp\;</a>\n\n<ul>\n	<li>Registration closes November 2\, 2015 at 11:59 pm\, (EDT)</li>\n	<li>Limited seating is available</li>\n	<li>Note: If your plans change\, please notify us so we can accommodate others on the waiting list&nbsp\;</li>\n</ul>\n<u><strong>Who Should Participate?&nbsp\;</strong></u><br />\nThis event is open to:&nbsp\;\n<ul>\n	<li>Corporate and facility security professionals from the private and public sectors\;</li>\n	<li>Supervisory first responders\; and</li>\n	<li>Homeland security representatives.&nbsp\;</li>\n</ul>\n
LOCATION:
UID:e.1404.7017
SEQUENCE:3
DTSTAMP:20260422T065025Z
URL:https://members.kearneycoc.org/events/details/department-of-homeland-security-active-shooter-preparedness-workshop-11-02-2015-7017
END:VEVENT

END:VCALENDAR
