BEGIN:VCALENDAR
VERSION:2.0
PRODID:-//ChamberMaster//Event Calendar 2.0//EN
METHOD:PUBLISH
X-PUBLISHED-TTL:P3D
REFRESH-INTERVAL:P3D
CALSCALE:GREGORIAN
BEGIN:VEVENT
DTSTART:20150827T220000Z
DTEND:20150828T040000Z
X-MICROSOFT-CDO-ALLDAYEVENT:FALSE
SUMMARY:Destination Downtown
DESCRIPTION:
X-ALT-DESC;FMTTYPE=text/html:
LOCATION:Downtown Kearney on the Bricks
UID:e.1404.6215
SEQUENCE:3
DTSTAMP:20260422T114430Z
URL:https://members.kearneycoc.org/events/details/destination-downtown-08-27-2015-6215
END:VEVENT

END:VCALENDAR
