BEGIN:VCALENDAR
VERSION:2.0
PRODID:-//ChamberMaster//Event Calendar 2.0//EN
METHOD:PUBLISH
X-PUBLISHED-TTL:P3D
REFRESH-INTERVAL:P3D
CALSCALE:GREGORIAN
BEGIN:VEVENT
DTSTART:20150613T150000Z
DTEND:20150613T190000Z
X-MICROSOFT-CDO-ALLDAYEVENT:FALSE
SUMMARY:DeWALT Truck Event
DESCRIPTION:Mark your calendars\, because you won't want to miss the BIGGEST DeWALT tool sale of the year! And make sure to take advantage of these great deals for Father's Day. Plus\, $2 MEAL DEAL Lunch Available from 11:00 am - 1:00 pm. Hot Dog\, or Hamburger\, Chips and a Drink. While supplies last.
X-ALT-DESC;FMTTYPE=text/html:Mark your calendars\, because you won&#39\;t want to miss the BIGGEST DeWALT tool sale of the year! And make sure to take advantage of these great deals for Father&#39\;s Day. Plus\, $2 MEAL DEAL Lunch Available from 11:00 am - 1:00 pm. Hot Dog\, or Hamburger\, Chips and a Drink. While supplies last.
LOCATION:Builders 4600 2nd Avenue\, Kearney\, NE 68847
UID:e.1404.6437
SEQUENCE:3
DTSTAMP:20260422T165109Z
URL:https://members.kearneycoc.org/events/details/dewalt-truck-event-06-13-2015-6437
END:VEVENT

END:VCALENDAR
