BEGIN:VCALENDAR
VERSION:2.0
PRODID:-//ChamberMaster//Event Calendar 2.0//EN
METHOD:PUBLISH
X-PUBLISHED-TTL:P3D
REFRESH-INTERVAL:P3D
CALSCALE:GREGORIAN
BEGIN:VEVENT
DTSTART:20120720T160000Z
DTEND:20120720T170000Z
X-MICROSOFT-CDO-ALLDAYEVENT:FALSE
SUMMARY:Dickey's Barbecue Pit Ribbon Cutting
DESCRIPTION:Come celebrate Dickey's Barbecue Pit's grand opening with a ceremonial Ribbon Cutting.  They will be serving up $1 pulled pork sandwiches from 11 AM - 1 PM at their main location and then that evening\, they'll be the official food fender of the Cruise Night Show & Shine out at the Archway.  For every sandwich sold at the Show & Shine Event\, Dickey's will donate $1 to the Kearney United Way.
X-ALT-DESC;FMTTYPE=text/html:Come celebrate Dickey&#39\;s Barbecue Pit&#39\;s grand opening with a ceremonial Ribbon Cutting.&nbsp\; They will be serving up $1 pulled pork sandwiches from 11 AM - 1 PM at their main location and then that evening\, they&#39\;ll be the official food fender of the Cruise Night Show &amp\; Shine out at the Archway.&nbsp\; For every sandwich sold at the Show &amp\; Shine Event\, Dickey&#39\;s will donate $1 to the Kearney United Way.
LOCATION:located in the Eagle's Nest Plaza (222 W 42nd Street)
UID:e.1404.1942
SEQUENCE:3
DTSTAMP:20260425T032935Z
URL:https://members.kearneycoc.org/events/details/dickey-s-barbecue-pit-ribbon-cutting-07-20-2012-1942
END:VEVENT

END:VCALENDAR
