BEGIN:VCALENDAR
VERSION:2.0
PRODID:-//ChamberMaster//Event Calendar 2.0//EN
METHOD:PUBLISH
X-PUBLISHED-TTL:P3D
REFRESH-INTERVAL:P3D
CALSCALE:GREGORIAN
BEGIN:VEVENT
DTSTART:20190705T130000Z
DTEND:20190705T200000Z
X-MICROSOFT-CDO-ALLDAYEVENT:FALSE
SUMMARY:Dig It! Archaeology Camp
DESCRIPTION:DIG IT! ARCHAEOLOGY CAMP\n\nJuly 5 @ 8:00 am - 3:00 pm at Kearney Area Children's Museum\n\n$20 Museum Members\n\n$30 Non Museum Members\n\nAges 4-10\n\nChildren will learn the basics or archeology and discover fun facts about the history of the Midwest!\n\nChildren need to bring a sack lunch.
X-ALT-DESC;FMTTYPE=text/html:DIG IT! ARCHAEOLOGY CAMP<br />\nJuly 5 @ 8:00 am - 3:00 pm at Kearney Area Children&rsquo\;s Museum<br />\n$20 Museum Members<br />\n$30 Non Museum Members<br />\nAges 4-10<br />\nChildren will learn the basics or archeology and discover fun facts about the history of the Midwest!<br />\nChildren need to bring a sack lunch.
LOCATION:Kearney Area Children's Museum Alia Arram Memorial Building 5827 4th Avenue\, Kearney\, NE 68845
UID:e.1404.16549
SEQUENCE:3
DTSTAMP:20260425T212804Z
URL:https://members.kearneycoc.org/events/details/dig-it-archaeology-camp-16549
END:VEVENT

END:VCALENDAR
