BEGIN:VCALENDAR
VERSION:2.0
PRODID:-//ChamberMaster//Event Calendar 2.0//EN
METHOD:PUBLISH
X-PUBLISHED-TTL:P3D
REFRESH-INTERVAL:P3D
CALSCALE:GREGORIAN
BEGIN:VEVENT
DTSTART:20200224T233000Z
DTEND:20200225T020000Z
X-MICROSOFT-CDO-ALLDAYEVENT:FALSE
SUMMARY:Dine Out to Help Out - Skeeter Barnes
DESCRIPTION:Take the night off from cooking and join us at Skeeter Barnes to give back to your community. Come eat great food and enjoy friendly service and the company of others. All tips will benefit the United Way of the Kearney Area and help us provide health\, education\, and financial stability to everyone in our communities. Come support your local United Way and keep our community strong.
X-ALT-DESC;FMTTYPE=text/html:<span style="color: rgb(29\, 33\, 41)\; font-family: Helvetica\, Arial\, sans-serif\; font-size: 14px\; white-space: pre-wrap\;">Take the night off from cooking and join us at Skeeter Barnes to give back to your community. Come eat great food and enjoy friendly service and the company of others. All tips will benefit the United Way of the Kearney Area and help us provide health\, education\, and financial stability to everyone in our communities. Come support your local United Way and keep our community strong.</span>
LOCATION:Skeeter Barnes 516 S 2nd Ave.
UID:e.1404.18343
SEQUENCE:3
DTSTAMP:20260425T113908Z
URL:https://members.kearneycoc.org/events/details/dine-out-to-help-out-skeeter-barnes-18343
END:VEVENT

END:VCALENDAR
