BEGIN:VCALENDAR
VERSION:2.0
PRODID:-//ChamberMaster//Event Calendar 2.0//EN
METHOD:PUBLISH
X-PUBLISHED-TTL:P3D
REFRESH-INTERVAL:P3D
CALSCALE:GREGORIAN
BEGIN:VEVENT
DTSTART:20131121T010000Z
DTEND:20131121T030000Z
X-MICROSOFT-CDO-ALLDAYEVENT:FALSE
SUMMARY:Disney on Ice
DESCRIPTION:Embark on the ultimate sightseeing vacation with all your favorite Disney characters in Disney On Ice presents Passport to Adventure.  Join Mickey\, Minnie\, Donald\, Goody and Daisy on a journey to the magical worlds of Disney's The Lion King\, The Little Mermaid\, Peter Pan and Lilo & Stitch.  You'll explore Pride Lands with Simba\, Timon and Pumbaa\; voyage under the sea with Ariel and all her aquatic friends\; tour London with Peter Pan and Wendy\, before flying to Never Land\; and travel to Hawaii to visit Lilo and Stitch.  Upbeat music\, lovable characters and exciting destinations make Disney On Ice presents Passport to Adventure a vacation you'll never forget.
X-ALT-DESC;FMTTYPE=text/html:Embark on the ultimate sightseeing vacation with all your favorite Disney characters in Disney On Ice presents Passport to Adventure. &nbsp\;Join Mickey\, Minnie\, Donald\, Goody and Daisy on a journey to the magical worlds of Disney&#39\;s The Lion King\, The Little Mermaid\, Peter Pan and Lilo &amp\; Stitch. &nbsp\;You&#39\;ll explore Pride Lands with Simba\, Timon and Pumbaa\; voyage under the sea with Ariel and all her aquatic friends\; tour London with Peter Pan and Wendy\, before flying to Never Land\; and travel to Hawaii to visit Lilo and Stitch. &nbsp\;Upbeat music\, lovable characters and exciting destinations make Disney On Ice presents Passport to Adventure a vacation you&#39\;ll never forget.<br />\n
LOCATION:Wed. 11/20 7:00 pm Thurs. 11/21 7:00 pm Fri. 11/22 7:00 pm Sat. 11/23 11:00 am 11/23 3:00 pm 11/23 7:00 pm Sun. 11/24 1:30 pm
UID:e.1404.3340
SEQUENCE:3
DTSTAMP:20260423T231056Z
URL:https://members.kearneycoc.org/events/details/disney-on-ice-11-20-2013-3340
END:VEVENT

END:VCALENDAR
