BEGIN:VCALENDAR
VERSION:2.0
PRODID:-//ChamberMaster//Event Calendar 2.0//EN
METHOD:PUBLISH
X-PUBLISHED-TTL:P3D
REFRESH-INTERVAL:P3D
CALSCALE:GREGORIAN
BEGIN:VEVENT
DTSTART:20131124T193000Z
DTEND:20131124T213000Z
X-MICROSOFT-CDO-ALLDAYEVENT:FALSE
SUMMARY:Disney on Ice
DESCRIPTION:Wed. 11/20  7:00 pm\n\n Thurs. 11/21  7:00 pm\n\nFri. 11/22  7:00 pm\n\nSat. 11/23 11:00 am\n\n11/23  3:00 pm\n\n11/23  7:00 pm\n\nSun. 11/24 1:30 pm
X-ALT-DESC;FMTTYPE=text/html:Wed. 11/20&nbsp\; 7:00 pm<br />\n&nbsp\;Thurs. 11/21&nbsp\; 7:00 pm<br />\nFri. 11/22&nbsp\; 7:00 pm<br />\nSat. 11/23 11:00 am<br />\n11/23&nbsp\; 3:00 pm<br />\n11/23&nbsp\; 7:00 pm<br />\nSun. 11/24 1:30 pm<br />\n
LOCATION:
UID:e.1404.3344
SEQUENCE:3
DTSTAMP:20260423T231150Z
URL:https://members.kearneycoc.org/events/details/disney-on-ice-11-24-2013-3344
END:VEVENT

END:VCALENDAR
