BEGIN:VCALENDAR
VERSION:2.0
PRODID:-//ChamberMaster//Event Calendar 2.0//EN
METHOD:PUBLISH
X-PUBLISHED-TTL:P3D
REFRESH-INTERVAL:P3D
CALSCALE:GREGORIAN
BEGIN:VEVENT
DTSTART:20191012T020000Z
DTEND:20191012T060000Z
X-MICROSOFT-CDO-ALLDAYEVENT:FALSE
SUMMARY:Doug Stone w/ Luke Mills Acoustic Show
DESCRIPTION:Enjoy a night out at JD's by listening to the acoustic stylings of Doug Stone with Luke Mills!
X-ALT-DESC;FMTTYPE=text/html:Enjoy a night out at JD&#39\;s by listening to the acoustic stylings of Doug Stone with Luke Mills!
LOCATION:2023 1st Ave Kearney\, NE 68847
UID:e.1404.17900
SEQUENCE:3
DTSTAMP:20260425T164147Z
URL:https://members.kearneycoc.org/events/details/doug-stone-w-luke-mills-acoustic-show-17900
END:VEVENT

END:VCALENDAR
