BEGIN:VCALENDAR
VERSION:2.0
PRODID:-//ChamberMaster//Event Calendar 2.0//EN
METHOD:PUBLISH
X-PUBLISHED-TTL:P3D
REFRESH-INTERVAL:P3D
CALSCALE:GREGORIAN
BEGIN:VEVENT
DTSTART:20161201T230000Z
DTEND:20161202T020000Z
X-MICROSOFT-CDO-ALLDAYEVENT:FALSE
SUMMARY:Downtown Christmas Walk
DESCRIPTION:Join us for a festive evening & stroll along Central Avenue. Shop & explore the holiday deals in Downtown Kearney   along the way look & listen for caroling\, live reindeer and delicious treats! Take your kids to visit Santa & Mrs. Clause! Or\, cozy up in a hayrack or horse-drawn sleigh ride!\n\nEnjoy the Holiday season down on the bricks .
X-ALT-DESC;FMTTYPE=text/html:<p style="box-sizing: border-box\; margin: 0px 0px 10px\; padding: 0px\; border: 0px rgb(225\, 225\, 225)\; font-variant-numeric: inherit\; font-stretch: inherit\; font-size: 13px\; line-height: 1.7\; font-family: &quot\;Open Sans&quot\;\, HelveticaNeue\, &quot\;Helvetica Neue&quot\;\, Helvetica\, Arial\, sans-serif\; vertical-align: baseline\; color: rgb(102\, 102\, 102)\; background-color: rgb(255\, 255\, 255)\;">Join us for a festive evening&nbsp\;&amp\; stroll along Central Avenue. Shop &amp\; explore the holiday deals in Downtown Kearney &mdash\; along the way look &amp\; listen for&nbsp\;caroling\, live reindeer&nbsp\;and delicious treats! Take your kids to visit Santa &amp\; Mrs. Clause! Or\, cozy up in a hayrack or horse-drawn sleigh ride!</p>\n\n<p style="box-sizing: border-box\; margin: 0px 0px 10px\; padding: 0px\; border: 0px rgb(225\, 225\, 225)\; font-variant-numeric: inherit\; font-stretch: inherit\; font-size: 13px\; line-height: 1.7\; font-family: &quot\;Open Sans&quot\;\, HelveticaNeue\, &quot\;Helvetica Neue&quot\;\, Helvetica\, Arial\, sans-serif\; vertical-align: baseline\; color: rgb(102\, 102\, 102)\; background-color: rgb(255\, 255\, 255)\;">Enjoy the Holiday season down on the bricks&hellip\;.</p>\n
LOCATION:Downtown Kearney
UID:e.1404.9005
SEQUENCE:3
DTSTAMP:20260421T083858Z
URL:https://members.kearneycoc.org/events/details/downtown-christmas-walk-9005
END:VEVENT

END:VCALENDAR
