BEGIN:VCALENDAR
VERSION:2.0
PRODID:-//ChamberMaster//Event Calendar 2.0//EN
METHOD:PUBLISH
X-PUBLISHED-TTL:P3D
REFRESH-INTERVAL:P3D
CALSCALE:GREGORIAN
BEGIN:VEVENT
DTSTART:20150701T130000Z
DTEND:20150701T150000Z
X-MICROSOFT-CDO-ALLDAYEVENT:FALSE
SUMMARY:Downtown Improvement Board
DESCRIPTION:
X-ALT-DESC;FMTTYPE=text/html:
LOCATION:
UID:e.1404.6277
SEQUENCE:3
DTSTAMP:20260422T151437Z
URL:https://members.kearneycoc.org/events/details/downtown-improvement-board-07-01-2015-6277
END:VEVENT

END:VCALENDAR
