BEGIN:VCALENDAR
VERSION:2.0
PRODID:-//ChamberMaster//Event Calendar 2.0//EN
METHOD:PUBLISH
X-PUBLISHED-TTL:P3D
REFRESH-INTERVAL:P3D
CALSCALE:GREGORIAN
BEGIN:VEVENT
DTSTART:20150902T133000Z
DTEND:20150902T150000Z
X-MICROSOFT-CDO-ALLDAYEVENT:FALSE
SUMMARY:Downtown Improvement Board
DESCRIPTION:
X-ALT-DESC;FMTTYPE=text/html:
LOCATION:City Hall Council Chambers 18 E. 22nd St.
UID:e.1404.6279
SEQUENCE:3
DTSTAMP:20260422T114411Z
URL:https://members.kearneycoc.org/events/details/downtown-improvement-board-09-02-2015-6279
END:VEVENT

END:VCALENDAR
