BEGIN:VCALENDAR
VERSION:2.0
PRODID:-//ChamberMaster//Event Calendar 2.0//EN
METHOD:PUBLISH
X-PUBLISHED-TTL:P3D
REFRESH-INTERVAL:P3D
CALSCALE:GREGORIAN
BEGIN:VEVENT
DTSTART:20161207T143000Z
DTEND:20161207T160000Z
X-MICROSOFT-CDO-ALLDAYEVENT:FALSE
SUMMARY:Downtown Improvement Board
DESCRIPTION:
X-ALT-DESC;FMTTYPE=text/html:
LOCATION:City Hall Council Chambers 18 E. 22nd St.
UID:e.1404.6294
SEQUENCE:3
DTSTAMP:20260421T085837Z
URL:https://members.kearneycoc.org/events/details/downtown-improvement-board-12-07-2016-6294
END:VEVENT

END:VCALENDAR
