BEGIN:VCALENDAR
VERSION:2.0
PRODID:-//ChamberMaster//Event Calendar 2.0//EN
METHOD:PUBLISH
X-PUBLISHED-TTL:P3D
REFRESH-INTERVAL:P3D
CALSCALE:GREGORIAN
BEGIN:VEVENT
DTSTART:20220513T210000Z
DTEND:20220513T223000Z
X-MICROSOFT-CDO-ALLDAYEVENT:FALSE
SUMMARY:Dr. Kent Edwards Retirement Celebration
DESCRIPTION:Kearney Public Schools and Kearney Community\,\n\nJoin us on Friday\, May 13th from 4:00 p.m. to 5:30 p.m. to recognize Dr. Kent Edwards and his 40 years of education dedication.   Cards may be sent to Kearney Public Schools\, 320 West 24th Street\, Kearney\, NE 68845.
X-ALT-DESC;FMTTYPE=text/html:Kearney Public Schools and Kearney Community\,<br />\nJoin us on Friday\, May 13th from 4:00 p.m. to 5:30 p.m. to recognize Dr. Kent Edwards and his 40 years of education dedication.&nbsp\; &nbsp\;Cards may be sent to Kearney Public Schools\, 320 West 24th Street\, Kearney\, NE 68845.
LOCATION:Merryman Performing Arts Center 225 W 22nd Street Kearney\, NE 68845
UID:e.1404.19681
SEQUENCE:3
DTSTAMP:20260423T115640Z
URL:https://members.kearneycoc.org/events/details/dr-kent-edwards-retirement-celebration-19681
END:VEVENT

END:VCALENDAR
