BEGIN:VCALENDAR
VERSION:2.0
PRODID:-//ChamberMaster//Event Calendar 2.0//EN
METHOD:PUBLISH
X-PUBLISHED-TTL:P3D
REFRESH-INTERVAL:P3D
CALSCALE:GREGORIAN
BEGIN:VEVENT
DTSTART:20200630T150000Z
DTEND:20200630T180000Z
X-MICROSOFT-CDO-ALLDAYEVENT:FALSE
SUMMARY:Drive Thru Job Fair
DESCRIPTION:Looking for a job? Join Kearney Works\, the Kearney Area Chamber of Commerce and Employ KRNY at our Drive Thru Job Fair on Tuesday\, June 30\, 2020 from 10:00 a.m. - 1:00 p.m. \n\n\n\nEasy as 1\, 2\, 3!\n\n1. Drive Thru\n\n2. Grab a bag of job opportunities & resources. \n\n3. Be on your way!
X-ALT-DESC;FMTTYPE=text/html:Looking for a job? Join Kearney Works\, the Kearney Area Chamber of Commerce and Employ KRNY at our Drive Thru Job Fair on Tuesday\, June 30\, 2020 from 10:00 a.m. - 1:00 p.m.&nbsp\;<br />\n<br />\nEasy as 1\, 2\, 3!<br />\n1. Drive Thru<br />\n2. Grab a bag of job opportunities &amp\; resources.&nbsp\;<br />\n3. Be on your way!
LOCATION:MONA Parking Lot 2401 Central Ave Kearney NE 68847
UID:e.1404.18647
SEQUENCE:3
DTSTAMP:20260425T033626Z
URL:https://members.kearneycoc.org/events/details/drive-thru-job-fair-18647
END:VEVENT

END:VCALENDAR
