BEGIN:VCALENDAR
VERSION:2.0
PRODID:-//ChamberMaster//Event Calendar 2.0//EN
METHOD:PUBLISH
X-PUBLISHED-TTL:P3D
REFRESH-INTERVAL:P3D
CALSCALE:GREGORIAN
BEGIN:VEVENT
DTSTART:20150215T210000Z
DTEND:20150216T000000Z
X-MICROSOFT-CDO-ALLDAYEVENT:FALSE
SUMMARY:Eagle's Chili Cook Off!
DESCRIPTION:Eagle's Chili Cook Off \n\n$10.00 per booth to enter.\n\nContact the Eagle's for registration form at 308-234-2216 or Colleen Rickard at 308-627-5983. \n\n\n\nEagle's Auxilliary 2722\n\n17 West 24th St\n\nKearney NE 68847\n\n\n\nThere will be awards for:\n\nThe Best Chili\n\nThe Hottest Chili\n\nThe Best Booth\n\nAin't Your Mama's Chili\n\n\n\n1st Place is $100.00\n\n2nd Place is $50.00
X-ALT-DESC;FMTTYPE=text/html:Eagle&#39\;s Chili Cook Off&nbsp\;<br />\n$10.00 per booth to enter.<br />\nContact the Eagle&#39\;s for registration form at&nbsp\;308-234-2216 or Colleen Rickard at 308-627-5983.&nbsp\;<br />\n<br />\nEagle&#39\;s Auxilliary 2722<br />\n17 West 24th&nbsp\;St<br />\nKearney NE 68847<br />\n<br />\nThere will be awards for:<br />\nThe Best Chili<br />\nThe Hottest Chili<br />\nThe Best Booth<br />\nAin&#39\;t Your Mama&#39\;s Chili<br />\n<br />\n1st Place is $100.00<br />\n2nd Place is $50.00
LOCATION:Eagle's Auxilliary 2722 17 West 24th St Kearney NE 68847
UID:e.1404.5983
SEQUENCE:3
DTSTAMP:20260422T212212Z
URL:https://members.kearneycoc.org/events/details/eagle-s-chili-cook-off-02-15-2015-5983
END:VEVENT

END:VCALENDAR
