BEGIN:VCALENDAR
VERSION:2.0
PRODID:-//ChamberMaster//Event Calendar 2.0//EN
METHOD:PUBLISH
X-PUBLISHED-TTL:P3D
REFRESH-INTERVAL:P3D
CALSCALE:GREGORIAN
BEGIN:VEVENT
DTSTART:20150909T150000Z
DTEND:20150909T210000Z
X-MICROSOFT-CDO-ALLDAYEVENT:FALSE
SUMMARY:Eakes 70 Year Anniversary Celebration
DESCRIPTION:Please join Eakes Office Solution in celebrating their 70 year anniversary! There will be free gifts to the first 50 customers\, free refreshments\, and you can register to win prizes.
X-ALT-DESC;FMTTYPE=text/html:Please join Eakes&nbsp\;Office Solution in celebrating their 70 year anniversary! There will be free gifts to the first 50 customers\, free refreshments\, and you can register to win prizes.
LOCATION:Eakes Office Solutions 2401 Ave. A
UID:e.1404.6683
SEQUENCE:3
DTSTAMP:20260422T101540Z
URL:https://members.kearneycoc.org/events/details/eakes-70-year-anniversary-celebration-09-09-2015-6683
END:VEVENT

END:VCALENDAR
