BEGIN:VCALENDAR
VERSION:2.0
PRODID:-//ChamberMaster//Event Calendar 2.0//EN
METHOD:PUBLISH
X-PUBLISHED-TTL:P3D
REFRESH-INTERVAL:P3D
CALSCALE:GREGORIAN
BEGIN:VEVENT
DTSTART:20150403T144500Z
DTEND:20150403T180000Z
X-MICROSOFT-CDO-ALLDAYEVENT:FALSE
SUMMARY:Easter Eggstravaganza
DESCRIPTION:Hilltop Mall's annual Easter Egg Hunt takes place April 3rd at 9:45a. Following the hunt\, you could learn about chicks and bunnies from a grand champion 4h-er! Additional activities will take place 10:30-1:00\, including Easter Photos with baby animals. Visit the mall website for more info and we hope to see you there! http://www.shophilltopmall.com/EventsPromotions/MallEvents/tabid/67/ModuleID/387/ItemID/4426/mctl/EventDetails/Default.aspx
X-ALT-DESC;FMTTYPE=text/html:Hilltop Mall&#39\;s annual Easter Egg Hunt takes place April 3rd at 9:45a. Following the hunt\, you could learn about chicks and bunnies from a grand champion 4h-er! Additional activities will take place 10:30-1:00\, including Easter Photos with baby animals. Visit the mall website for more info and we hope to see you there! http://www.shophilltopmall.com/EventsPromotions/MallEvents/tabid/67/ModuleID/387/ItemID/4426/mctl/EventDetails/Default.aspx
LOCATION:Hilltop Mall
UID:e.1404.6186
SEQUENCE:3
DTSTAMP:20260422T182015Z
URL:https://members.kearneycoc.org/events/details/easter-eggstravaganza-04-03-2015-6186
END:VEVENT

END:VCALENDAR
