BEGIN:VCALENDAR
VERSION:2.0
PRODID:-//ChamberMaster//Event Calendar 2.0//EN
METHOD:PUBLISH
X-PUBLISHED-TTL:P3D
REFRESH-INTERVAL:P3D
CALSCALE:GREGORIAN
BEGIN:VEVENT
DTSTART:20150321T150000Z
DTEND:20150322T200000Z
X-MICROSOFT-CDO-ALLDAYEVENT:FALSE
SUMMARY:Easter Photos with Animal Friends
DESCRIPTION:Easter Photos with Animal Friends\, weekends at the Hilltop Mall\, starting March 14th. See mall website for full schedule and times. Happy Easter! http://www.shophilltopmall.com/EventsPromotions/MallEvents/tabid/67/ModuleID/387/ItemID/4431/mctl/EventDetails/Default.aspx
X-ALT-DESC;FMTTYPE=text/html:Easter Photos with Animal Friends\, weekends at the Hilltop Mall\, starting March 14th. See mall website for full schedule and times. Happy Easter! http://www.shophilltopmall.com/EventsPromotions/MallEvents/tabid/67/ModuleID/387/ItemID/4431/mctl/EventDetails/Default.aspx
LOCATION:Hilltop Mall Center Court
UID:e.1404.6184
SEQUENCE:3
DTSTAMP:20260422T212451Z
URL:https://members.kearneycoc.org/events/details/easter-photos-with-animal-friends-03-21-2015-6184
END:VEVENT

END:VCALENDAR
