BEGIN:VCALENDAR
VERSION:2.0
PRODID:-//ChamberMaster//Event Calendar 2.0//EN
METHOD:PUBLISH
X-PUBLISHED-TTL:P3D
REFRESH-INTERVAL:P3D
CALSCALE:GREGORIAN
BEGIN:VEVENT
DTSTART:20150327T150000Z
DTEND:20150328T200000Z
X-MICROSOFT-CDO-ALLDAYEVENT:FALSE
SUMMARY:Easter Photos with Animal Friends
DESCRIPTION:Easter photos with animal friends\, weekends at the Hilltop Mall! Saturday 10-2\, 4-6 Sunday 1-3 http://www.shophilltopmall.com/EventsPromotions/MallEvents/tabid/67/ModuleID/387/ItemID/4433/mctl/EventDetails/Default.aspx
X-ALT-DESC;FMTTYPE=text/html:Easter photos with animal friends\, weekends at the Hilltop Mall! Saturday 10-2\, 4-6 Sunday 1-3 http://www.shophilltopmall.com/EventsPromotions/MallEvents/tabid/67/ModuleID/387/ItemID/4433/mctl/EventDetails/Default.aspx
LOCATION:Hilltop Mall
UID:e.1404.6185
SEQUENCE:3
DTSTAMP:20260422T200342Z
URL:https://members.kearneycoc.org/events/details/easter-photos-with-animal-friends-03-27-2015-6185
END:VEVENT

END:VCALENDAR
